BEGIN:VCALENDAR
METHOD:PUBLISH
VERSION:2.0
CALSCALE:GREGORIAN
PRODID:-//NONSGML WPForms//NONSGML Sugar Calendar Feeds v3.11.0//EN
X-WR-CALNAME:Community Yard Sale
X-WR-CALDESC:Antietam Valley Community Partnership
X-WR-TIMEZONE:America/New_York
BEGIN:VTIMEZONE
TZID:America/New_York
BEGIN:DAYLIGHT
TZOFFSETFROM:-0500
TZOFFSETTO:-0400
DTSTART:20260308T070000
TZNAME:EDT
END:DAYLIGHT
END:VTIMEZONE
BEGIN:VTIMEZONE
TZID:America/New_York
BEGIN:DAYLIGHT
TZOFFSETFROM:-0500
TZOFFSETTO:-0400
DTSTART:20260308T070000
TZNAME:EDT
END:DAYLIGHT
END:VTIMEZONE
BEGIN:VEVENT
SUMMARY:Community Yard Sale
DESCRIPTION:
URL;VALUE=URI:https://antietamvalley.org/events/community-yard-sale-3/
UID:urn:uuid:f3207436-a2b3-4c59-afb6-ff6d23856804
STATUS:CONFIRMED
ORGANIZER:
DTSTAMP:20260420T113846Z
DTSTART;TZID=America/New_York:20260516T080000
DTEND;TZID=America/New_York:20260516T120000
END:VEVENT
END:VCALENDAR