BEGIN:VCALENDAR
METHOD:PUBLISH
VERSION:2.0
CALSCALE:GREGORIAN
PRODID:-//NONSGML WPForms//NONSGML Sugar Calendar Feeds v3.11.0//EN
X-WR-CALNAME:Holiday Food Drive
X-WR-CALDESC:Antietam Valley Community Partnership
X-WR-TIMEZONE:America/New_York
BEGIN:VTIMEZONE
TZID:America/New_York
BEGIN:STANDARD
TZOFFSETFROM:-0400
TZOFFSETTO:-0500
DTSTART:20251102T060000
TZNAME:EST
END:STANDARD
END:VTIMEZONE
BEGIN:VTIMEZONE
TZID:America/New_York
BEGIN:STANDARD
TZOFFSETFROM:-0400
TZOFFSETTO:-0500
DTSTART:20251102T060000
TZNAME:EST
END:STANDARD
END:VTIMEZONE
BEGIN:VEVENT
SUMMARY:Holiday Food Drive
DESCRIPTION:
URL;VALUE=URI:https://antietamvalley.org/events/holiday-food-drive/
UID:urn:uuid:dad0d4ab-6da1-49cd-9da9-78e9f2e7bf6f
STATUS:CONFIRMED
ORGANIZER:
DTSTAMP:20260421T150140Z
DTSTART;TZID=America/New_York:20251219T120000
DTEND;TZID=America/New_York:20251219T150000
END:VEVENT
END:VCALENDAR