BEGIN:VCALENDAR
METHOD:PUBLISH
VERSION:2.0
CALSCALE:GREGORIAN
PRODID:-//NONSGML WPForms//NONSGML Sugar Calendar Feeds v3.11.0//EN
X-WR-CALNAME:Tree Lighting in Carsonia Park
X-WR-CALDESC:Antietam Valley Community Partnership
X-WR-TIMEZONE:America/New_York
BEGIN:VTIMEZONE
TZID:America/New_York
BEGIN:STANDARD
TZOFFSETFROM:-0400
TZOFFSETTO:-0500
DTSTART:20251102T060000
TZNAME:EST
END:STANDARD
END:VTIMEZONE
BEGIN:VTIMEZONE
TZID:America/New_York
BEGIN:STANDARD
TZOFFSETFROM:-0400
TZOFFSETTO:-0500
DTSTART:20251102T060000
TZNAME:EST
END:STANDARD
END:VTIMEZONE
BEGIN:VEVENT
SUMMARY:Tree Lighting in Carsonia Park
DESCRIPTION:
URL;VALUE=URI:https://antietamvalley.org/events/tree-lighting-in-carsoni
 a-park/
UID:urn:uuid:3630884b-4feb-4c9d-9874-9cf57c291a74
STATUS:CONFIRMED
ORGANIZER:
DTSTAMP:20260421T162831Z
DTSTART;TZID=America/New_York:20251206T183000
DTEND;TZID=America/New_York:20251206T210000
END:VEVENT
END:VCALENDAR